BEGIN:VCALENDAR
VERSION:2.0
PRODID:-//AAPPMA Castanet-Tolosan - ECPv5.0.0.2//NONSGML v1.0//EN
CALSCALE:GREGORIAN
METHOD:PUBLISH
X-WR-CALNAME:AAPPMA Castanet-Tolosan
X-ORIGINAL-URL:https://peche-castanet31.fr
X-WR-CALDESC:Évènements pour AAPPMA Castanet-Tolosan
BEGIN:VTIMEZONE
TZID:Europe/Paris
BEGIN:DAYLIGHT
TZOFFSETFROM:+0100
TZOFFSETTO:+0200
TZNAME:CEST
DTSTART:20260329T010000
END:DAYLIGHT
BEGIN:STANDARD
TZOFFSETFROM:+0200
TZOFFSETTO:+0100
TZNAME:CET
DTSTART:20261025T010000
END:STANDARD
END:VTIMEZONE
BEGIN:VEVENT
DTSTART;VALUE=DATE:20261205
DTEND;VALUE=DATE:20261207
DTSTAMP:20260424T082626
CREATED:20260303T082355Z
LAST-MODIFIED:20260303T082554Z
UID:2391-1796428800-1796601599@peche-castanet31.fr
SUMMARY:Téléthon 2026
DESCRIPTION:Chers amis pêcheurs\, \nNous sommes heureux de confirmer la tenue de notre action Téléthon pour cette nouvelle année 2026. \nLes 5 et 6 décembre prochain\, les lacs de Labège et de Rabaudy seront donc pourvus en truites que vous pourrez venir taquiner moyennant une participation modique de 10€ qui sera entièrement reversée à l’association AFM Téléthon. \nVous pourrez ainsi profiter d’un week-end (samedi et dimanche) de pêche tout en faisant un don au Téléthon !! \nNous comptons sur vous !! \nL’Equipe de l’AAPPMA de Castanet-Tolosan \n
URL:https://peche-castanet31.fr/event/telethon-2026/
CATEGORIES:TELETHON
ORGANIZER;CN="AAPPMA":MAILTO:castanetappma@sfr.fr
END:VEVENT
END:VCALENDAR